{"text_format":"1","workbook":"xlsx","n_sheets":10,"sheets":["メニュー","【月別】アイテム・個数","【月別】アイテム・金額","【日別】アイテム・個数","【日別】アイテム・金額","【月別】取引先・金額","【月別】自社・金額","【月別】自社・支払方法・金額","【月別】注文経路・金額","DB"],"not_rendered":{"charts":0,"images":0,"macros":1,"external_links":0,"defined_names":16,"comments":0,"pivot_tables":0},"unopened":[],"bounds":{"document_bytes":16777216,"sheet_cells":100000,"rows_first":2000,"rows_last":500,"rows_between":2000,"halvings":0,"cell_chars":16384,"cell_head_chars":4096},"cells_cut":0,"cells_raw":0,"read":"whole","date_system":"1900"}

{"sheet":"メニュー","index":0,"n_rows":10,"n_cols":4,"rows_kept":10,"cut":false,"hidden":false,"merged":[]}
[]
[null,"Menu","起算年","起算月"]
[null,"１）【月別】アイテム・個数"]
[null,"２）【月別】アイテム・金額"]
[null,"３）【日別】アイテム・個数"]
[null,"４）【日別】アイテム・金額"]
[null,"５）【月別】取引先・金額"]
[null,"６）【月別】自社・金額"]
[null,"７）【月別】自社・支払方法・金額"]
[null,"８）【月別】注文経路・金額"]

{"sheet":"【月別】アイテム・個数","index":1,"n_rows":5,"n_cols":16,"rows_kept":5,"cut":false,"hidden":false,"merged":[[2,14,2,15],[3,2,3,3],[3,1,4,1],[2,1,2,3],[1,14,1,15]]}
["【戻る】"]
[null,null,null,null,null,null,null,null,null,null,null,null,null,null,"単位：円"]
[null,"【月別】アイテム・個数実績",null,null,null,null,null,null,null,null,null,null,null,null,{"$f":"TEXT(TODAY(),\"yyyy/mm/dd\") & \"現在\"","v":"2025/07/10現在"}]
["Item","商品名","合計",null,{"$f":"メニュー!C3","v":0},{"$f":"IF(E5=12,$E$4+1,\"\")","v":""},"","","","","","","","","",""]
["ID",null,"数量","金額",{"$f":"メニュー!D3","v":0},{"$f":"IF(F4=\"\",E5+1,1)","v":1},{"$f":"IF(G4=\"\",F5+1,1)","v":2},3,4,5,6,7,8,9,10,11]

{"sheet":"【月別】アイテム・金額","index":2,"n_rows":5,"n_cols":16,"rows_kept":5,"cut":false,"hidden":false,"merged":[[2,14,2,15],[2,1,2,3],[3,1,4,1],[3,2,3,3],[1,14,1,15]]}
["【戻る】"]
[null,null,null,null,null,null,null,null,null,null,null,null,null,null,"単位：円"]
[null,"【月別】アイテム・金額実績",null,null,null,null,null,null,null,null,null,null,null,null,{"$f":"TEXT(TODAY(),\"yyyy/mm/dd\") & \"現在\"","v":"2025/07/10現在"}]
["Item","商品名","合計",null,{"$f":"メニュー!C4","v":0},{"$f":"IF(E5=12,$E$4+1,\"\")","v":""},"","","","","","","","","",""]
["ID",null,"数量","金額",{"$f":"メニュー!D4","v":0},{"$f":"IF(F4=\"\",E5+1,1)","v":1},{"$f":"IF(G4=\"\",F5+1,1)","v":2},3,4,5,6,7,8,9,10,11]

{"sheet":"【日別】アイテム・個数","index":3,"n_rows":5,"n_cols":35,"rows_kept":5,"cut":false,"hidden":false,"merged":[[1,33,1,34],[2,32,2,34],[3,1,4,1],[3,2,3,3],[2,1,2,3],[2,4,2,5]]}
["【戻る】"]
[null,null,null,null,null,null,null,null,null,null,null,null,null,null,null,null,null,null,null,null,null,null,null,null,null,null,null,null,null,null,null,null,null,"単位：円"]
[null,"【日別】アイテム・個数実績",null,null,{"$f":"メニュー!C5","v":0},null,null,null,null,null,null,null,null,null,null,null,null,null,null,null,null,null,null,null,null,null,null,null,null,null,null,null,{"$f":"TEXT(TODAY(),\"yyyy/mm/dd\") & \"現在\"","v":"2025/07/10現在"}]
["Item","商品名","合計",null,{"$f":"メニュー!D5","v":0},{"$f":"IF(E5=12,$E$3+1,\"\")","v":""},null,null,null,null,null,null,null,null,null,null,null,null,null,null,null,null,{"$f":"IF(F5=12,$E$3+1,\"\")","v":""},{"$f":"IF(W5=12,$E$3+1,\"\")","v":""},{"$f":"IF(X5=12,$E$3+1,\"\")","v":""},null,null,null,{"$f":"IF(Y5=12,$E$3+1,\"\")","v":""},{"$f":"IF(AC5=12,$E$3+1,\"\")","v":""},null,{"$f":"IF(AE5=12,$E$3+1,\"\")","v":""},{"$f":"IF(AF5=12,$E$3+1,\"\")","v":""},{"$f":"IF(AG5=12,$E$3+1,\"\")","v":""},{"$f":"IF(AH5=12,$E$3+1,\"\")","v":""}]
["ID",null,"数量","金額",1,2,3,4,5,6,7,8,9,10,11,12,13,14,15,16,17,18,19,20,21,22,23,24,25,26,27,28,{"$f":"IF(DAY(DATE(E3, E4 + 1, 0)) >= 29, \"29日\", \"\")","v":""},{"$f":"IF(DAY(DATE(E3, E4 + 1, 0)) >= 30, \"30日\", \"\")","v":""},{"$f":"IF(DAY(DATE(E3, E4 + 1, 0)) >= 31, \"31日\", \"\")","v":""}]

{"sheet":"【日別】アイテム・金額","index":4,"n_rows":5,"n_cols":35,"rows_kept":5,"cut":false,"hidden":false,"merged":[[1,33,1,34],[2,32,2,34],[2,1,2,3],[3,1,4,1],[3,2,3,3],[2,4,2,5]]}
["【戻る】"]
[null,null,null,null,null,null,null,null,null,null,null,null,null,null,null,null,null,null,null,null,null,null,null,null,null,null,null,null,null,null,null,null,null,"単位：円"]
[null,"【日別】アイテム・個数実績",null,null,{"$f":"メニュー!C6","v":0},null,null,null,null,null,null,null,null,null,null,null,null,null,null,null,null,null,null,null,null,null,null,null,null,null,null,null,{"$f":"TEXT(TODAY(),\"yyyy/mm/dd\") & \"現在\"","v":"2025/07/10現在"}]
["Item","商品名","合計",null,{"$f":"メニュー!D6","v":0},{"$f":"IF(E5=12,$E$3+1,\"\")","v":""},null,null,null,null,null,null,null,null,null,null,null,null,null,null,null,null,{"$f":"IF(F5=12,$E$3+1,\"\")","v":""},{"$f":"IF(W5=12,$E$3+1,\"\")","v":""},{"$f":"IF(X5=12,$E$3+1,\"\")","v":""},null,null,null,{"$f":"IF(Y5=12,$E$3+1,\"\")","v":""},{"$f":"IF(AC5=12,$E$3+1,\"\")","v":""},null,{"$f":"IF(AE5=12,$E$3+1,\"\")","v":""},{"$f":"IF(AF5=12,$E$3+1,\"\")","v":""},{"$f":"IF(AG5=12,$E$3+1,\"\")","v":""},{"$f":"IF(AH5=12,$E$3+1,\"\")","v":""}]
["ID",null,"数量","金額",1,2,3,4,5,6,7,8,9,10,11,12,13,14,15,16,17,18,19,20,21,22,23,24,25,26,27,28,{"$f":"IF(DAY(DATE(E3, E4 + 1, 0)) >= 29, \"29日\", \"\")","v":""},{"$f":"IF(DAY(DATE(E3, E4 + 1, 0)) >= 30, \"30日\", \"\")","v":""},{"$f":"IF(DAY(DATE(E3, E4 + 1, 0)) >= 31, \"31日\", \"\")","v":""}]

{"sheet":"【月別】取引先・金額","index":5,"n_rows":5,"n_cols":16,"rows_kept":5,"cut":false,"hidden":false,"merged":[[2,1,2,3],[2,14,2,15],[3,1,4,1],[3,2,3,3],[1,14,1,15]]}
["【戻る】"]
[null,null,null,null,null,null,null,null,null,null,null,null,null,null,"単位：円"]
[null,"【月別】取引先別・金額実績",null,null,null,null,null,null,null,null,null,null,null,null,{"$f":"TEXT(TODAY(),\"yyyy/mm/dd\") & \"現在\"","v":"2025/07/10現在"}]
["Cust","取引先","合計",null,{"$f":"メニュー!C7","v":0},{"$f":"IF(E5=12,$E$4+1,\"\")","v":""},"","","","","","","","","",""]
["ID",null,"発送件数","金額",{"$f":"メニュー!D7","v":0},{"$f":"IF(F4=\"\",E5+1,1)","v":1},{"$f":"IF(G4=\"\",F5+1,1)","v":2},3,4,5,6,7,8,9,10,11]

{"sheet":"【月別】自社・金額","index":6,"n_rows":5,"n_cols":16,"rows_kept":5,"cut":false,"hidden":false,"merged":[[2,1,2,3],[2,14,2,15],[3,1,4,1],[3,2,3,3],[1,14,1,15]]}
["【戻る】"]
[null,null,null,null,null,null,null,null,null,null,null,null,null,null,"単位：円"]
[null,"【月別】自社・金額実績",null,null,null,null,null,null,null,null,null,null,null,null,{"$f":"TEXT(TODAY(),\"yyyy/mm/dd\") & \"現在\"","v":"2025/07/10現在"}]
["Cust","取引先","合計",null,{"$f":"メニュー!C8","v":0},{"$f":"IF(E5=12,$E$4+1,\"\")","v":""},"","","","","","","","","",""]
["ID",null,"発送件数","金額",{"$f":"メニュー!D8","v":0},{"$f":"IF(F4=\"\",E5+1,1)","v":1},{"$f":"IF(G4=\"\",F5+1,1)","v":2},3,4,5,6,7,8,9,10,11]

{"sheet":"【月別】自社・支払方法・金額","index":7,"n_rows":5,"n_cols":16,"rows_kept":5,"cut":false,"hidden":false,"merged":[[2,1,2,3],[2,14,2,15],[3,1,4,1],[3,2,3,3],[1,14,1,15]]}
["【戻る】"]
[null,null,null,null,null,null,null,null,null,null,null,null,null,null,"単位：円"]
[null,"【月別】支払方法・金額実績",null,null,null,null,null,null,null,null,null,null,null,null,{"$f":"TEXT(TODAY(),\"yyyy/mm/dd\") & \"現在\"","v":"2025/07/10現在"}]
["Siharai","支払方法","合計",null,{"$f":"メニュー!C9","v":0},{"$f":"IF(E5=12,$E$4+1,\"\")","v":""},"","","","","","","","","",""]
["ID",null,"発送件数","金額",{"$f":"メニュー!D9","v":0},{"$f":"IF(F4=\"\",E5+1,1)","v":1},{"$f":"IF(G4=\"\",F5+1,1)","v":2},3,4,5,6,7,8,9,10,11]

{"sheet":"【月別】注文経路・金額","index":8,"n_rows":5,"n_cols":16,"rows_kept":5,"cut":false,"hidden":false,"merged":[[2,1,2,3],[2,14,2,15],[3,1,4,1],[3,2,3,3],[1,14,1,15]]}
["【戻る】"]
[null,null,null,null,null,null,null,null,null,null,null,null,null,null,"単位：円"]
[null,"【月別】注文経路・金額実績",null,null,null,null,null,null,null,null,null,null,null,null,{"$f":"TEXT(TODAY(),\"yyyy/mm/dd\") & \"現在\"","v":"2025/07/10現在"}]
["Order","支払方法","合計",null,{"$f":"メニュー!C10","v":0},{"$f":"IF(E5=12,$E$4+1,\"\")","v":""},"","","","","","","","","",""]
["ID",null,"発送件数","金額",{"$f":"メニュー!D10","v":0},{"$f":"IF(F4=\"\",E5+1,1)","v":1},{"$f":"IF(G4=\"\",F5+1,1)","v":2},3,4,5,6,7,8,9,10,11]

{"sheet":"DB","index":9,"n_rows":1,"n_cols":1,"rows_kept":1,"cut":false,"hidden":true,"merged":[]}
["Cypher4_Demo2025"]